BEGIN:VCALENDAR
VERSION:2.0
PRODID:-//Sekolah Dharma Utama - ECPv5.5.0.1//NONSGML v1.0//EN
CALSCALE:GREGORIAN
METHOD:PUBLISH
X-WR-CALNAME:Sekolah Dharma Utama
X-ORIGINAL-URL:https://www.dsnfoundation.or.id
X-WR-CALDESC:Events for Sekolah Dharma Utama
BEGIN:VTIMEZONE
TZID:UTC
BEGIN:STANDARD
TZOFFSETFROM:+0000
TZOFFSETTO:+0000
TZNAME:UTC
DTSTART:20200101T000000
END:STANDARD
END:VTIMEZONE
BEGIN:VEVENT
DTSTART;TZID=UTC:20201020T052842
DTEND;TZID=UTC:20210219T170000
DTSTAMP:20260424T164531
CREATED:20170213T024054Z
LAST-MODIFIED:20170213T024054Z
UID:607-1603171722-1613754000@www.dsnfoundation.or.id
SUMMARY:Board Meeting Students Developed
DESCRIPTION:The Ed School District is in compliance with the U.S. Civil Rights Act of 1964 and the Title IX Educational Amendments of 1972\, Part 86. The School District provides equal employment and educational opportunities to all individuals without regard to race\, color\, creed\, religion\, national origin\, political affiliation\, sex\, sexual orientation\, age\, marital status\, veteran status or disability.
URL:https://www.dsnfoundation.or.id/event/board-meeting-students-developed/
LOCATION:icon-04
CATEGORIES:sport
ATTACH;FMTTYPE=image/jpeg:https://www.dsnfoundation.or.id/wp-content/uploads/2017/02/349-pai515383.jpg
END:VEVENT
END:VCALENDAR