BEGIN:VCALENDAR
VERSION:2.0
PRODID:-//Sekolah Dharma Utama - ECPv5.5.0.1//NONSGML v1.0//EN
CALSCALE:GREGORIAN
METHOD:PUBLISH
X-WR-CALNAME:Sekolah Dharma Utama
X-ORIGINAL-URL:https://www.dsnfoundation.or.id
X-WR-CALDESC:Events for Sekolah Dharma Utama
BEGIN:VTIMEZONE
TZID:UTC
BEGIN:STANDARD
TZOFFSETFROM:+0000
TZOFFSETTO:+0000
TZNAME:UTC
DTSTART:20200101T000000
END:STANDARD
END:VTIMEZONE
BEGIN:VEVENT
DTSTART;TZID=UTC:20201020T052841
DTEND;TZID=UTC:20210219T170000
DTSTAMP:20260424T181612
CREATED:20200202T112441Z
LAST-MODIFIED:20200202T112441Z
UID:606-1603171721-1613754000@www.dsnfoundation.or.id
SUMMARY:Downer Family Fitness Center
DESCRIPTION:
URL:https://www.dsnfoundation.or.id/event/downer-family-fitness-center/
CATEGORIES:sport
ATTACH;FMTTYPE=image/jpeg:https://www.dsnfoundation.or.id/wp-content/uploads/2019/09/03.jpg
END:VEVENT
END:VCALENDAR