BEGIN:VCALENDAR
VERSION:2.0
PRODID:-//Sekolah Dharma Utama - ECPv5.5.0.1//NONSGML v1.0//EN
CALSCALE:GREGORIAN
METHOD:PUBLISH
X-WR-CALNAME:Sekolah Dharma Utama
X-ORIGINAL-URL:https://www.dsnfoundation.or.id
X-WR-CALDESC:Events for Sekolah Dharma Utama
BEGIN:VTIMEZONE
TZID:UTC
BEGIN:STANDARD
TZOFFSETFROM:+0000
TZOFFSETTO:+0000
TZNAME:UTC
DTSTART:20190101T000000
END:STANDARD
END:VTIMEZONE
BEGIN:VEVENT
DTSTART;VALUE=DATE:20191010
DTEND;VALUE=DATE:20200416
DTSTAMP:20260424T192320
CREATED:20170208T054325Z
LAST-MODIFIED:20170208T054325Z
UID:199-1570678102-1586995199@www.dsnfoundation.or.id
SUMMARY:Most part fantastic faculty members for students
DESCRIPTION:The Ed School District is in compliance with the U.S. Civil Rights Act of 1964 and the Title IX Educational Amendments of 1972\, Part 86. The School District provides equal employment and educational opportunities to all individuals without regard to race\, color\, creed\, religion\, national origin\, political affiliation\, sex\, sexual orientation\, age\, marital status\, veteran status or disability.
URL:https://www.dsnfoundation.or.id/event/most-part-fantastic-faculty-members/
LOCATION:Z – School life
CATEGORIES:School
END:VEVENT
END:VCALENDAR